BEGIN:VCALENDAR
VERSION:2.0
PRODID:-//DIOCESI DI ROMA - ECPv4.6.14.1//NONSGML v1.0//EN
CALSCALE:GREGORIAN
METHOD:PUBLISH
X-WR-CALNAME:DIOCESI DI ROMA
X-ORIGINAL-URL:https://www.diocesidiroma.it
X-WR-CALDESC:Eventi per DIOCESI DI ROMA
BEGIN:VEVENT
DTSTART;TZID=Europe/Rome:20191202T080000
DTEND;TZID=Europe/Rome:20191202T170000
DTSTAMP:20260422T071813
CREATED:20190917T105829Z
LAST-MODIFIED:20190917T105829Z
UID:8512-1575273600-1575306000@www.diocesidiroma.it
SUMMARY:Incontro per cappellani e collaboratori past. Universitaria
DESCRIPTION:
URL:https://www.diocesidiroma.it/event/incontro-per-cappellani-e-collaboratori-past-universitaria/
CATEGORIES:Iniziative degli Uffici
END:VEVENT
END:VCALENDAR