BEGIN:VCALENDAR
VERSION:2.0
PRODID:-//DIOCESI DI ROMA - ECPv4.6.14.1//NONSGML v1.0//EN
CALSCALE:GREGORIAN
METHOD:PUBLISH
X-WR-CALNAME:DIOCESI DI ROMA
X-ORIGINAL-URL:https://www.diocesidiroma.it
X-WR-CALDESC:Eventi per DIOCESI DI ROMA
BEGIN:VEVENT
DTSTART;TZID=Europe/Rome:20190114T000000
DTEND;TZID=Europe/Rome:20190114T000000
DTSTAMP:20260424T071727
CREATED:20181009T065841Z
LAST-MODIFIED:20181009T065841Z
UID:4894-1547424000-1547424000@www.diocesidiroma.it
SUMMARY:Incontro per direttori e direttrici dei collegi universitari
DESCRIPTION:Incontro per direttori e direttrici dei collegi universitari\, a cura del Servizio cultura e università. \n
URL:https://www.diocesidiroma.it/event/incontro-per-direttori-e-direttrici-dei-collegi-universitari/
CATEGORIES:Iniziative degli Uffici
END:VEVENT
END:VCALENDAR