BEGIN:VCALENDAR
VERSION:2.0
PRODID:-//DIOCESI DI ROMA - ECPv4.6.14.1//NONSGML v1.0//EN
CALSCALE:GREGORIAN
METHOD:PUBLISH
X-WR-CALNAME:DIOCESI DI ROMA
X-ORIGINAL-URL:https://www.diocesidiroma.it
X-WR-CALDESC:Eventi per DIOCESI DI ROMA
BEGIN:VEVENT
DTSTART;VALUE=DATE:20241120
DTEND;VALUE=DATE:20241121
DTSTAMP:20260425T123034
CREATED:20240823T075712Z
LAST-MODIFIED:20240823T075712Z
UID:30726-1732060800-1732147199@www.diocesidiroma.it
SUMMARY:Incontro per i 50 anni del settimanale RomaSette (Uff. comunicazioni sociali)
DESCRIPTION:Incontro per i 50 anni del settimanale RomaSette (Uff. comunicazioni sociali) \n
URL:https://www.diocesidiroma.it/event/incontro-per-i-50-anni-del-settimanale-romasette-uff-comunicazioni-sociali/
CATEGORIES:In Diocesi,Iniziative degli Uffici
END:VEVENT
END:VCALENDAR