BEGIN:VCALENDAR
VERSION:2.0
PRODID:-//DIOCESI DI ROMA - ECPv4.6.14.1//NONSGML v1.0//EN
CALSCALE:GREGORIAN
METHOD:PUBLISH
X-WR-CALNAME:DIOCESI DI ROMA
X-ORIGINAL-URL:https://www.diocesidiroma.it
X-WR-CALDESC:Eventi per DIOCESI DI ROMA
BEGIN:VEVENT
DTSTART;TZID=Europe/Rome:20200203T000000
DTEND;TZID=Europe/Rome:20200203T000000
DTSTAMP:20260424T014520
CREATED:20190918T071454Z
LAST-MODIFIED:20190918T071454Z
UID:8659-1580688000-1580688000@www.diocesidiroma.it
SUMMARY:Incontro per i cappellani e collaboratori universitari
DESCRIPTION:Incontro per i cappellani e collaboratori universitari\, a cura del Servizio cultura e università. \n
URL:https://www.diocesidiroma.it/event/incontro-per-i-cappellani-e-collaboratori-universitari/
CATEGORIES:Iniziative degli Uffici
END:VEVENT
END:VCALENDAR