BEGIN:VCALENDAR
VERSION:2.0
PRODID:-//DIOCESI DI ROMA - ECPv4.6.14.1//NONSGML v1.0//EN
CALSCALE:GREGORIAN
METHOD:PUBLISH
X-WR-CALNAME:DIOCESI DI ROMA
X-ORIGINAL-URL:https://www.diocesidiroma.it
X-WR-CALDESC:Eventi per DIOCESI DI ROMA
BEGIN:VEVENT
DTSTART;TZID=Europe/Rome:20191028T000000
DTEND;TZID=Europe/Rome:20191028T000000
DTSTAMP:20260421T024917
CREATED:20190917T082608Z
LAST-MODIFIED:20190917T082608Z
UID:8443-1572220800-1572220800@www.diocesidiroma.it
SUMMARY:Incontro per i cappellani e i collaboratori universitari
DESCRIPTION:Incontro per i cappellani e i collaboratori a cura del Servizio diocesano cultura e università. \n
URL:https://www.diocesidiroma.it/event/incontro-per-i-cappellani-e-i-collaboratori-universitari/
CATEGORIES:Iniziative degli Uffici
END:VEVENT
END:VCALENDAR