BEGIN:VCALENDAR
VERSION:2.0
PRODID:-//DIOCESI DI ROMA - ECPv4.6.14.1//NONSGML v1.0//EN
CALSCALE:GREGORIAN
METHOD:PUBLISH
X-WR-CALNAME:DIOCESI DI ROMA
X-ORIGINAL-URL:https://www.diocesidiroma.it
X-WR-CALDESC:Eventi per DIOCESI DI ROMA
BEGIN:VEVENT
DTSTART;TZID=Europe/Rome:20190505T000000
DTEND;TZID=Europe/Rome:20190505T000000
DTSTAMP:20260423T000545
CREATED:20181018T094532Z
LAST-MODIFIED:20181018T094532Z
UID:5190-1557014400-1557014400@www.diocesidiroma.it
SUMMARY:Incontro per i catecumeni del primo anno
DESCRIPTION:Incontro per i catecumeni del primo anno\, a cura del Servizio per il catecumenato. \n
URL:https://www.diocesidiroma.it/event/incontro-per-i-catecumeni-del-primo-anno-2/
CATEGORIES:Iniziative degli Uffici
END:VEVENT
END:VCALENDAR