BEGIN:VCALENDAR
VERSION:2.0
PRODID:-//DIOCESI DI ROMA - ECPv4.6.14.1//NONSGML v1.0//EN
CALSCALE:GREGORIAN
METHOD:PUBLISH
X-WR-CALNAME:DIOCESI DI ROMA
X-ORIGINAL-URL:https://www.diocesidiroma.it
X-WR-CALDESC:Eventi per DIOCESI DI ROMA
BEGIN:VEVENT
DTSTART;TZID=Europe/Rome:20260517T160000
DTEND;TZID=Europe/Rome:20260517T180000
DTSTAMP:20260421T032551
CREATED:20251021T132937Z
LAST-MODIFIED:20251021T132937Z
UID:38110-1779033600-1779040800@www.diocesidiroma.it
SUMMARY:Incontro per i catecumeni del primo anno candidati a ricevere i sacramenti dell'Iniziazione cristiana nella Veglia Pasquale del 2027
DESCRIPTION:Incontro per i catecumeni del primo anno candidati a ricevere i sacramenti dell’Iniziazione cristiana nella Veglia Pasquale del 2027 – Sala Conferenze del Pontificio Seminario Romano Maggiore dalle ore  (Uff. per il Catecumenato) \n
URL:https://www.diocesidiroma.it/event/incontro-per-i-catecumeni-del-primo-anno-candidati-a-ricevere-i-sacramenti-delliniziazione-cristiana-nella-veglia-pasquale-del-2027-2/
CATEGORIES:In Diocesi,Iniziative degli Uffici
END:VEVENT
END:VCALENDAR