BEGIN:VCALENDAR
VERSION:2.0
PRODID:-//DIOCESI DI ROMA - ECPv4.6.14.1//NONSGML v1.0//EN
CALSCALE:GREGORIAN
METHOD:PUBLISH
X-WR-CALNAME:DIOCESI DI ROMA
X-ORIGINAL-URL:https://www.diocesidiroma.it
X-WR-CALDESC:Eventi per DIOCESI DI ROMA
BEGIN:VEVENT
DTSTART;TZID=Europe/Rome:20191201T160000
DTEND;TZID=Europe/Rome:20191201T180000
DTSTAMP:20260422T182806
CREATED:20190917T103922Z
LAST-MODIFIED:20190917T103922Z
UID:8501-1575216000-1575223200@www.diocesidiroma.it
SUMMARY:Incontro per i catecumeni del secondo anno
DESCRIPTION:
URL:https://www.diocesidiroma.it/event/incontro-per-i-catecumeni-del-secondo-anno-3/
CATEGORIES:Iniziative degli Uffici
END:VEVENT
END:VCALENDAR