BEGIN:VCALENDAR
VERSION:2.0
PRODID:-//DIOCESI DI ROMA - ECPv4.6.14.1//NONSGML v1.0//EN
CALSCALE:GREGORIAN
METHOD:PUBLISH
X-WR-CALNAME:DIOCESI DI ROMA
X-ORIGINAL-URL:https://www.diocesidiroma.it
X-WR-CALDESC:Eventi per DIOCESI DI ROMA
BEGIN:VEVENT
DTSTART;TZID=Europe/Rome:20251130T160000
DTEND;TZID=Europe/Rome:20251130T180000
DTSTAMP:20260421T022651
CREATED:20250910T123750Z
LAST-MODIFIED:20250910T123750Z
UID:37029-1764518400-1764525600@www.diocesidiroma.it
SUMMARY:Incontro per i catecumeni del secondo anno
DESCRIPTION:Incontro per i catecumeni del secondo anno candidati a ricevere i sacramenti dell’Iniziazione cristiana nella Veglia Pasquale del 2026 – Sala Conferenze del Pontificio Seminario Romano Maggiore. (Uff. per il Catecumenato) \n
URL:https://www.diocesidiroma.it/event/incontro-per-i-catecumeni-del-secondo-anno-5/
CATEGORIES:Iniziative degli Uffici
END:VEVENT
END:VCALENDAR