BEGIN:VCALENDAR
VERSION:2.0
PRODID:-//DIOCESI DI ROMA - ECPv4.6.14.1//NONSGML v1.0//EN
CALSCALE:GREGORIAN
METHOD:PUBLISH
X-WR-CALNAME:DIOCESI DI ROMA
X-ORIGINAL-URL:https://www.diocesidiroma.it
X-WR-CALDESC:Eventi per DIOCESI DI ROMA
BEGIN:VEVENT
DTSTART;TZID=Europe/Rome:20200216T160000
DTEND;TZID=Europe/Rome:20200216T180000
DTSTAMP:20260420T201827
CREATED:20190925T143248Z
LAST-MODIFIED:20190925T143319Z
UID:8740-1581868800-1581876000@www.diocesidiroma.it
SUMMARY:Incontro per i catecumeni del secondo anno al Pontificio Seminario Romano Maggiore
DESCRIPTION:Incontro per i catecumeni del secondo anno al Pontificio Seminario Romano Maggiore\, a cura del Servizio per il catecumenato. \n
URL:https://www.diocesidiroma.it/event/incontro-per-i-catecumeni-del-secondo-anno-al-pontificio-seminario-romano-maggiore-3/
CATEGORIES:Iniziative degli Uffici
END:VEVENT
END:VCALENDAR