BEGIN:VCALENDAR
VERSION:2.0
PRODID:-//DIOCESI DI ROMA - ECPv4.6.14.1//NONSGML v1.0//EN
CALSCALE:GREGORIAN
METHOD:PUBLISH
X-WR-CALNAME:DIOCESI DI ROMA
X-ORIGINAL-URL:https://www.diocesidiroma.it
X-WR-CALDESC:Eventi per DIOCESI DI ROMA
BEGIN:VEVENT
DTSTART;TZID=Europe/Rome:20260201T150000
DTEND;TZID=Europe/Rome:20260201T170000
DTSTAMP:20260421T053302
CREATED:20250912T082645Z
LAST-MODIFIED:20250912T082645Z
UID:37163-1769958000-1769965200@www.diocesidiroma.it
SUMMARY:Incontro per i catecumeni del secondo anno candidati a ricevere i sacramenti dell'Iniziazione cristiana nella Veglia Pasquale del 2026 - Abside della Basilica di San Giovanni in Laterano  (Uff. per il Catecumenato)
DESCRIPTION:Incontro per i catecumeni del secondo anno candidati a ricevere i sacramenti dell’Iniziazione cristiana nella Veglia Pasquale del 2026 – Abside della Basilica di San Giovanni in Laterano  (Uff. per il Catecumenato) \n
URL:https://www.diocesidiroma.it/event/incontro-per-i-catecumeni-del-secondo-anno-candidati-a-ricevere-i-sacramenti-delliniziazione-cristiana-nella-veglia-pasquale-del-2026-abside-della-basilica-di-san-giovanni-in-laterano-uff-per-i/
CATEGORIES:In Diocesi,Iniziative degli Uffici
END:VEVENT
END:VCALENDAR