BEGIN:VCALENDAR
VERSION:2.0
PRODID:-//DIOCESI DI ROMA - ECPv4.6.14.1//NONSGML v1.0//EN
CALSCALE:GREGORIAN
METHOD:PUBLISH
X-WR-CALNAME:DIOCESI DI ROMA
X-ORIGINAL-URL:https://www.diocesidiroma.it
X-WR-CALDESC:Eventi per DIOCESI DI ROMA
BEGIN:VEVENT
DTSTART;TZID=Europe/Rome:20181014T000000
DTEND;TZID=Europe/Rome:20181014T000000
DTSTAMP:20260423T162848
CREATED:20180912T130518Z
LAST-MODIFIED:20180912T130518Z
UID:4404-1539475200-1539475200@www.diocesidiroma.it
SUMMARY:Incontro per i catecumeni
DESCRIPTION:Incontro per i catecumeni del secondo anno e per i battezzati nel 2018 a cura del Servizio per il catecumenato. \n
URL:https://www.diocesidiroma.it/event/incontro-per-i-catecumeni/
CATEGORIES:Iniziative degli Uffici
END:VEVENT
END:VCALENDAR