BEGIN:VCALENDAR
VERSION:2.0
PRODID:-//DIOCESI DI ROMA - ECPv4.6.14.1//NONSGML v1.0//EN
CALSCALE:GREGORIAN
METHOD:PUBLISH
X-WR-CALNAME:DIOCESI DI ROMA
X-ORIGINAL-URL:https://www.diocesidiroma.it
X-WR-CALDESC:Eventi per DIOCESI DI ROMA
BEGIN:VEVENT
DTSTART;TZID=Europe/Rome:20240312T000000
DTEND;TZID=Europe/Rome:20240312T000000
DTSTAMP:20260421T152539
CREATED:20240125T081310Z
LAST-MODIFIED:20240125T081310Z
UID:28669-1710201600-1710201600@www.diocesidiroma.it
SUMMARY:Incontro per i parroci di nuova nomina - 12 e 13 marzo (Uff. form perm clero)
DESCRIPTION:Incontro per i parroci di nuova nomina – 12 e 13 marzo (Uff. form perm clero) \n
URL:https://www.diocesidiroma.it/event/incontro-per-i-parroci-di-nuova-nomina-12-e-13-marzo-uff-form-perm-clero/
CATEGORIES:Iniziative degli Uffici
END:VEVENT
END:VCALENDAR