BEGIN:VCALENDAR
VERSION:2.0
PRODID:-//DIOCESI DI ROMA - ECPv4.6.14.1//NONSGML v1.0//EN
CALSCALE:GREGORIAN
METHOD:PUBLISH
X-WR-CALNAME:DIOCESI DI ROMA
X-ORIGINAL-URL:https://www.diocesidiroma.it
X-WR-CALDESC:Eventi per DIOCESI DI ROMA
BEGIN:VEVENT
DTSTART;TZID=Europe/Rome:20240304T000000
DTEND;TZID=Europe/Rome:20240304T000000
DTSTAMP:20260421T065316
CREATED:20240125T075618Z
LAST-MODIFIED:20240125T075618Z
UID:28650-1709510400-1709510400@www.diocesidiroma.it
SUMMARY:Incontro per i presbiteri dal 7° al 10° anno di ordinazione (2017-2014) - 4 e 5 marzo - Casa Domus Aurea (Uff. form. perm. clero)
DESCRIPTION:Incontro per i presbiteri dal 7° al 10° anno di ordinazione (2017-2014) – 4 e 5 marzo – Casa Domus Aurea (Uff. form. perm. clero) \n
URL:https://www.diocesidiroma.it/event/incontro-per-i-presbiteri-dal-7-al-10-anno-di-ordinazione-2017-2014-4-e-5-marzo-casa-domus-aurea-uff-form-perm-clero/
CATEGORIES:Iniziative degli Uffici
END:VEVENT
END:VCALENDAR