BEGIN:VCALENDAR
VERSION:2.0
PRODID:-//DIOCESI DI ROMA - ECPv4.6.14.1//NONSGML v1.0//EN
CALSCALE:GREGORIAN
METHOD:PUBLISH
X-WR-CALNAME:DIOCESI DI ROMA
X-ORIGINAL-URL:https://www.diocesidiroma.it
X-WR-CALDESC:Eventi per DIOCESI DI ROMA
BEGIN:VEVENT
DTSTART;TZID=Europe/Rome:20240316T000000
DTEND;TZID=Europe/Rome:20240316T000000
DTSTAMP:20260423T040630
CREATED:20240125T082238Z
LAST-MODIFIED:20240125T082238Z
UID:28681-1710547200-1710547200@www.diocesidiroma.it
SUMMARY:Incontro per i sacerdoti oltre i 75 anni (Uff. form.  perm. clero)
DESCRIPTION:Incontro per i sacerdoti oltre i 75 anni (Uff. form. perm. clero) \n
URL:https://www.diocesidiroma.it/event/incontro-per-i-sacerdoti-oltre-i-75-anni-uff-form-perm-clero-2/
CATEGORIES:Iniziative degli Uffici
END:VEVENT
END:VCALENDAR