BEGIN:VCALENDAR
VERSION:2.0
PRODID:-//DIOCESI DI ROMA - ECPv4.6.14.1//NONSGML v1.0//EN
CALSCALE:GREGORIAN
METHOD:PUBLISH
X-WR-CALNAME:DIOCESI DI ROMA
X-ORIGINAL-URL:https://www.diocesidiroma.it
X-WR-CALDESC:Eventi per DIOCESI DI ROMA
BEGIN:VEVENT
DTSTART;TZID=Europe/Rome:20231125T000000
DTEND;TZID=Europe/Rome:20231125T000000
DTSTAMP:20260422T162032
CREATED:20231006T092214Z
LAST-MODIFIED:20231006T092214Z
UID:27562-1700870400-1700870400@www.diocesidiroma.it
SUMMARY:Incontro per il 10° anniversario dell'Evangelii Gaudium - Basilica di San Giovanni in Laterano
DESCRIPTION:Incontro per il 10° anniversario dell’Evangelii Gaudium – Basilica di San Giovanni in Laterano  \n
URL:https://www.diocesidiroma.it/event/incontro-per-il-10-anniversario-dellevangelii-gaudium-basilica-di-san-giovanni-in-laterano/
CATEGORIES:In Diocesi
END:VEVENT
END:VCALENDAR