BEGIN:VCALENDAR
VERSION:2.0
PRODID:-//DIOCESI DI ROMA - ECPv4.6.14.1//NONSGML v1.0//EN
CALSCALE:GREGORIAN
METHOD:PUBLISH
X-WR-CALNAME:DIOCESI DI ROMA
X-ORIGINAL-URL:https://www.diocesidiroma.it
X-WR-CALDESC:Eventi per DIOCESI DI ROMA
BEGIN:VEVENT
DTSTART;TZID=Europe/Rome:20200925T000000
DTEND;TZID=Europe/Rome:20200925T000000
DTSTAMP:20260421T005144
CREATED:20200917T072043Z
LAST-MODIFIED:20200917T072043Z
UID:11621-1600992000-1600992000@www.diocesidiroma.it
SUMMARY:Incontro pomeridiano per le consacrate impegnate nella Pastorale della Salute
DESCRIPTION:Incontro pomeridiano per le consacrate impegnate nella Pastorale della Salute presso la Casa di Cura Santa Maria della Provvidenza\, a cura del Centro per la pastorale sanitaria. \n
URL:https://www.diocesidiroma.it/event/incontro-pomeridiano-per-le-consacrate-impegnate-nella-pastorale-della-salute/
CATEGORIES:Iniziative degli Uffici
END:VEVENT
END:VCALENDAR