BEGIN:VCALENDAR
VERSION:2.0
PRODID:-//DIOCESI DI ROMA - ECPv4.6.14.1//NONSGML v1.0//EN
CALSCALE:GREGORIAN
METHOD:PUBLISH
X-WR-CALNAME:DIOCESI DI ROMA
X-ORIGINAL-URL:https://www.diocesidiroma.it
X-WR-CALDESC:Eventi per DIOCESI DI ROMA
BEGIN:VEVENT
DTSTART;TZID=Europe/Rome:20250524T120000
DTEND;TZID=Europe/Rome:20250524T120000
DTSTAMP:20260420T194555
CREATED:20250516T115644Z
LAST-MODIFIED:20250516T115644Z
UID:35697-1748088000-1748088000@www.diocesidiroma.it
SUMMARY:Incontro regionale dei Diaconi permanenti
DESCRIPTION:Incontro regionale dei Diaconi permanenti (S. Lorenzo al Verano) \n
URL:https://www.diocesidiroma.it/event/incontro-regionale-dei-diaconi-permanenti/
CATEGORIES:Vicario Generale
END:VEVENT
END:VCALENDAR