BEGIN:VCALENDAR
VERSION:2.0
PRODID:-//DIOCESI DI ROMA - ECPv4.6.14.1//NONSGML v1.0//EN
CALSCALE:GREGORIAN
METHOD:PUBLISH
X-WR-CALNAME:DIOCESI DI ROMA
X-ORIGINAL-URL:https://www.diocesidiroma.it
X-WR-CALDESC:Eventi per DIOCESI DI ROMA
BEGIN:VEVENT
DTSTART;TZID=Europe/Rome:20190601T000000
DTEND;TZID=Europe/Rome:20190601T000000
DTSTAMP:20260423T163954
CREATED:20181023T132534Z
LAST-MODIFIED:20181023T132534Z
UID:5271-1559347200-1559347200@www.diocesidiroma.it
SUMMARY:Incontro su Caravaggio a Santa Maria del Popolo
DESCRIPTION:Incontro su Caravaggio a Santa Maria del Popolo nell’ambito della Notte Sacra\, a cura del Servizio cultura e università. \n
URL:https://www.diocesidiroma.it/event/incontro-su-caravaggio-a-santa-maria-del-popolo/
CATEGORIES:Iniziative degli Uffici
END:VEVENT
END:VCALENDAR