BEGIN:VCALENDAR
VERSION:2.0
PRODID:-//DIOCESI DI ROMA - ECPv4.6.14.1//NONSGML v1.0//EN
CALSCALE:GREGORIAN
METHOD:PUBLISH
X-WR-CALNAME:DIOCESI DI ROMA
X-ORIGINAL-URL:https://www.diocesidiroma.it
X-WR-CALDESC:Eventi per DIOCESI DI ROMA
BEGIN:VEVENT
DTSTART;TZID=Europe/Rome:20190517T000000
DTEND;TZID=Europe/Rome:20190517T000000
DTSTAMP:20260424T070402
CREATED:20181018T095651Z
LAST-MODIFIED:20181018T095651Z
UID:5213-1558051200-1558051200@www.diocesidiroma.it
SUMMARY:Incontro su Caravaggio a Sant'Anna
DESCRIPTION:Incontro su Caravaggio nella chiesa di Sant’Anna in Vaticano\, a cura del Servizio per la cultura e l’università. \n
URL:https://www.diocesidiroma.it/event/incontro-su-caravaggio-a-santanna/
CATEGORIES:Iniziative degli Uffici
END:VEVENT
END:VCALENDAR