BEGIN:VCALENDAR
VERSION:2.0
PRODID:-//DIOCESI DI ROMA - ECPv4.6.14.1//NONSGML v1.0//EN
CALSCALE:GREGORIAN
METHOD:PUBLISH
X-WR-CALNAME:DIOCESI DI ROMA
X-ORIGINAL-URL:https://www.diocesidiroma.it
X-WR-CALDESC:Eventi per DIOCESI DI ROMA
BEGIN:VEVENT
DTSTART;TZID=Europe/Rome:20181113T000000
DTEND;TZID=Europe/Rome:20181113T000000
DTSTAMP:20260421T102205
CREATED:20180913T072724Z
LAST-MODIFIED:20180913T072724Z
UID:4497-1542067200-1542067200@www.diocesidiroma.it
SUMMARY:Incontro su "Guida alla pratica matrimoniale"
DESCRIPTION:Incontro su “Guida alla pratica matrimoniale” a cura dell’Ufficio matrimoni. \n
URL:https://www.diocesidiroma.it/event/incontro-su-guida-alla-pratica-matrimoniale/
CATEGORIES:Iniziative degli Uffici
END:VEVENT
END:VCALENDAR