BEGIN:VCALENDAR
VERSION:2.0
PRODID:-//DIOCESI DI ROMA - ECPv4.6.14.1//NONSGML v1.0//EN
CALSCALE:GREGORIAN
METHOD:PUBLISH
X-WR-CALNAME:DIOCESI DI ROMA
X-ORIGINAL-URL:https://www.diocesidiroma.it
X-WR-CALDESC:Eventi per DIOCESI DI ROMA
BEGIN:VEVENT
DTSTART;TZID=Europe/Rome:20200307T100000
DTEND;TZID=Europe/Rome:20200307T100000
DTSTAMP:20260423T201703
CREATED:20190925T151139Z
LAST-MODIFIED:20190925T151139Z
UID:8786-1583575200-1583575200@www.diocesidiroma.it
SUMMARY:Incontro su "Intercultura: dall'Africa all'Italia. Motivazioni e rotte delle migrazioni"
DESCRIPTION:Incontro su “Intercultura: dall’Africa all’Italia. Motivazioni e rotte delle migrazioni”\, a cura del Servizio cultura e università. \n
URL:https://www.diocesidiroma.it/event/incontro-su-intercultura-dallafrica-allitalia-motivazioni-e-rotte-delle-migrazioni/
CATEGORIES:Iniziative degli Uffici
END:VEVENT
END:VCALENDAR