BEGIN:VCALENDAR
VERSION:2.0
PRODID:-//DIOCESI DI ROMA - ECPv4.6.14.1//NONSGML v1.0//EN
CALSCALE:GREGORIAN
METHOD:PUBLISH
X-WR-CALNAME:DIOCESI DI ROMA
X-ORIGINAL-URL:https://www.diocesidiroma.it
X-WR-CALDESC:Eventi per DIOCESI DI ROMA
BEGIN:VEVENT
DTSTART;TZID=Europe/Rome:20190129T000000
DTEND;TZID=Europe/Rome:20190129T000000
DTSTAMP:20260421T120458
CREATED:20181009T071608Z
LAST-MODIFIED:20181009T071802Z
UID:4916-1548720000-1548720000@www.diocesidiroma.it
SUMMARY:Incontro teologico per docenti
DESCRIPTION:Incontro teologico per docenti\, presso la Casa Bonus Pastor\, a cura del Servizio cultura e università. \n
URL:https://www.diocesidiroma.it/event/incontro-teologico-per-docenti/
CATEGORIES:Iniziative degli Uffici
END:VEVENT
END:VCALENDAR