BEGIN:VCALENDAR
VERSION:2.0
PRODID:-//DIOCESI DI ROMA - ECPv4.6.14.1//NONSGML v1.0//EN
CALSCALE:GREGORIAN
METHOD:PUBLISH
X-WR-CALNAME:DIOCESI DI ROMA
X-ORIGINAL-URL:https://www.diocesidiroma.it
X-WR-CALDESC:Eventi per DIOCESI DI ROMA
BEGIN:VEVENT
DTSTART;TZID=Europe/Rome:20181127T183000
DTEND;TZID=Europe/Rome:20181127T183000
DTSTAMP:20260422T174753
CREATED:20180913T082921Z
LAST-MODIFIED:20180913T082921Z
UID:4545-1543343400-1543343400@www.diocesidiroma.it
SUMMARY:Incontro teologico per i docenti alla Bonus Pastor
DESCRIPTION:Incontro teologico per i docenti presso la Casa Bonus Pastor\, promosso dal Servizio per la cultura e l’università. \n
URL:https://www.diocesidiroma.it/event/incontro-teologico-per-i-docenti-alla-bonus-pastor/
CATEGORIES:Iniziative degli Uffici
END:VEVENT
END:VCALENDAR