BEGIN:VCALENDAR
VERSION:2.0
PRODID:-//DIOCESI DI ROMA - ECPv4.6.14.1//NONSGML v1.0//EN
CALSCALE:GREGORIAN
METHOD:PUBLISH
X-WR-CALNAME:DIOCESI DI ROMA
X-ORIGINAL-URL:https://www.diocesidiroma.it
X-WR-CALDESC:Eventi per DIOCESI DI ROMA
BEGIN:VEVENT
DTSTART;VALUE=DATE:20260701
DTEND;VALUE=DATE:20260702
DTSTAMP:20260421T132828
CREATED:20251215T103946Z
LAST-MODIFIED:20251215T103946Z
UID:39120-1782864000-1782950399@www.diocesidiroma.it
SUMMARY:Inizio campi estivi\, adolescenti e giovani ( Uff. Pastorale Giovanile)
DESCRIPTION:Inizio campi estivi\, adolescenti e giovani ( Uff. Pastorale Giovanile) \n
URL:https://www.diocesidiroma.it/event/inizio-campi-estivi-adolescenti-e-giovani-uff-pastorale-giovanile/
CATEGORIES:In Diocesi,Iniziative degli Uffici
END:VEVENT
END:VCALENDAR