BEGIN:VCALENDAR
VERSION:2.0
PRODID:-//DIOCESI DI ROMA - ECPv4.6.14.1//NONSGML v1.0//EN
CALSCALE:GREGORIAN
METHOD:PUBLISH
X-WR-CALNAME:DIOCESI DI ROMA
X-ORIGINAL-URL:https://www.diocesidiroma.it
X-WR-CALDESC:Eventi per DIOCESI DI ROMA
BEGIN:VEVENT
DTSTART;TZID=Europe/Rome:20231106T180000
DTEND;TZID=Europe/Rome:20231106T200000
DTSTAMP:20260425T104526
CREATED:20231006T084538Z
LAST-MODIFIED:20231006T084538Z
UID:27521-1699293600-1699300800@www.diocesidiroma.it
SUMMARY:Inizio Corso Base Caritas Parrocchiale - per parrocchie e prefetture (Caritas)
DESCRIPTION:Inizio Corso Base Caritas Parrocchiale – per parrocchie e prefetture (Caritas) \n
URL:https://www.diocesidiroma.it/event/inizio-corso-base-caritas-parrocchiale-per-parrocchie-e-prefetture-caritas/
CATEGORIES:In Diocesi,Iniziative degli Uffici
END:VEVENT
END:VCALENDAR