BEGIN:VCALENDAR
VERSION:2.0
PRODID:-//DIOCESI DI ROMA - ECPv4.6.14.1//NONSGML v1.0//EN
CALSCALE:GREGORIAN
METHOD:PUBLISH
X-WR-CALNAME:DIOCESI DI ROMA
X-ORIGINAL-URL:https://www.diocesidiroma.it
X-WR-CALDESC:Eventi per DIOCESI DI ROMA
BEGIN:VEVENT
DTSTART;TZID=Europe/Rome:20181215T000000
DTEND;TZID=Europe/Rome:20181215T000000
DTSTAMP:20260421T093656
CREATED:20180918T125025Z
LAST-MODIFIED:20180918T125025Z
UID:4669-1544832000-1544832000@www.diocesidiroma.it
SUMMARY:Inizio corso della scuola biblica "Casa della Parola"
DESCRIPTION:Inizio corso della scuola biblica “Casa della Parola”\, lettura patristica. A cura dell’Ufficio catechistico. \n
URL:https://www.diocesidiroma.it/event/inizio-corso-della-scuola-biblica-casa-della-parola-2/
CATEGORIES:Iniziative degli Uffici
END:VEVENT
END:VCALENDAR