BEGIN:VCALENDAR
VERSION:2.0
PRODID:-//DIOCESI DI ROMA - ECPv4.6.14.1//NONSGML v1.0//EN
CALSCALE:GREGORIAN
METHOD:PUBLISH
X-WR-CALNAME:DIOCESI DI ROMA
X-ORIGINAL-URL:https://www.diocesidiroma.it
X-WR-CALDESC:Eventi per DIOCESI DI ROMA
BEGIN:VEVENT
DTSTART;TZID=Europe/Rome:20181117T000000
DTEND;TZID=Europe/Rome:20181117T000000
DTSTAMP:20260423T154516
CREATED:20180913T075511Z
LAST-MODIFIED:20180913T075511Z
UID:4515-1542412800-1542412800@www.diocesidiroma.it
SUMMARY:Inizio corso della scuola biblica "Casa della Parola"
DESCRIPTION:Inizio corso della scuola biblica “Casa della Parola” a cura dell’Ufficio catechistico. \n
URL:https://www.diocesidiroma.it/event/inizio-corso-della-scuola-biblica-casa-della-parola/
CATEGORIES:Iniziative degli Uffici
END:VEVENT
END:VCALENDAR