BEGIN:VCALENDAR
VERSION:2.0
PRODID:-//DIOCESI DI ROMA - ECPv4.6.14.1//NONSGML v1.0//EN
CALSCALE:GREGORIAN
METHOD:PUBLISH
X-WR-CALNAME:DIOCESI DI ROMA
X-ORIGINAL-URL:https://www.diocesidiroma.it
X-WR-CALDESC:Eventi per DIOCESI DI ROMA
BEGIN:VEVENT
DTSTART;TZID=Europe/Rome:20200205T000000
DTEND;TZID=Europe/Rome:20200205T000000
DTSTAMP:20260422T162051
CREATED:20190918T072348Z
LAST-MODIFIED:20190918T072348Z
UID:8663-1580860800-1580860800@www.diocesidiroma.it
SUMMARY:Inizio corso di formazione per nuovi ministri straordinari della Comunione
DESCRIPTION:Inizio corso di formazione per nuovi ministri straordinari della Comunione (10 incontri di mercoledì)\, al Pontificio Seminario Romano Maggiore\, a cura dell’Ufficio liturgico. \n
URL:https://www.diocesidiroma.it/event/inizio-corso-di-formazione-per-nuovi-ministri-straordinari-della-comunione/
CATEGORIES:Iniziative degli Uffici
END:VEVENT
END:VCALENDAR