BEGIN:VCALENDAR
VERSION:2.0
PRODID:-//DIOCESI DI ROMA - ECPv4.6.14.1//NONSGML v1.0//EN
CALSCALE:GREGORIAN
METHOD:PUBLISH
X-WR-CALNAME:DIOCESI DI ROMA
X-ORIGINAL-URL:https://www.diocesidiroma.it
X-WR-CALDESC:Eventi per DIOCESI DI ROMA
BEGIN:VEVENT
DTSTART;TZID=Europe/Rome:20200224T000000
DTEND;TZID=Europe/Rome:20200224T000000
DTSTAMP:20260422T193101
CREATED:20190925T145046Z
LAST-MODIFIED:20190925T145046Z
UID:8762-1582502400-1582502400@www.diocesidiroma.it
SUMMARY:Inizio corso di formazione per operatori di pastorale familiare nei settori - Anno A
DESCRIPTION:Inizio corso di formazione per operatori di pastorale familiare nei settori – Anno A\, a cura del Centro per la pastorale familiare. \n
URL:https://www.diocesidiroma.it/event/inizio-corso-di-formazione-per-operatori-di-pastorale-familiare-nei-settori-anno-a/
CATEGORIES:Iniziative degli Uffici
END:VEVENT
END:VCALENDAR