BEGIN:VCALENDAR
VERSION:2.0
PRODID:-//DIOCESI DI ROMA - ECPv4.6.14.1//NONSGML v1.0//EN
CALSCALE:GREGORIAN
METHOD:PUBLISH
X-WR-CALNAME:DIOCESI DI ROMA
X-ORIGINAL-URL:https://www.diocesidiroma.it
X-WR-CALDESC:Eventi per DIOCESI DI ROMA
BEGIN:VEVENT
DTSTART;TZID=Europe/Rome:20181010T000000
DTEND;TZID=Europe/Rome:20181010T000000
DTSTAMP:20260422T070213
CREATED:20180912T125356Z
LAST-MODIFIED:20180912T125356Z
UID:4385-1539129600-1539129600@www.diocesidiroma.it
SUMMARY:Inizio corso di formazione permanente dei catechisti
DESCRIPTION:Inizio corso di formazione permanente dei catechisti\, a cura dell’Ufficio catechistico diocesano. \n
URL:https://www.diocesidiroma.it/event/inizio-corso-di-formazione-permanente-dei-catechisti/
CATEGORIES:Iniziative degli Uffici
END:VEVENT
END:VCALENDAR