BEGIN:VCALENDAR
VERSION:2.0
PRODID:-//DIOCESI DI ROMA - ECPv4.6.14.1//NONSGML v1.0//EN
CALSCALE:GREGORIAN
METHOD:PUBLISH
X-WR-CALNAME:DIOCESI DI ROMA
X-ORIGINAL-URL:https://www.diocesidiroma.it
X-WR-CALDESC:Eventi per DIOCESI DI ROMA
BEGIN:VEVENT
DTSTART;TZID=Europe/Rome:20181108T000000
DTEND;TZID=Europe/Rome:20181108T000000
DTSTAMP:20260420T182109
CREATED:20180912T151135Z
LAST-MODIFIED:20180912T151135Z
UID:4466-1541635200-1541635200@www.diocesidiroma.it
SUMMARY:Inizio corso di liturgia per la pastorale
DESCRIPTION:Inizio corso di liturgia per la pastorale\, organizzato dall’Ufficio liturgico diocesano. \n
URL:https://www.diocesidiroma.it/event/inizio-corso-di-liturgia-per-la-pastorale-2/
CATEGORIES:Iniziative degli Uffici
END:VEVENT
END:VCALENDAR