BEGIN:VCALENDAR
VERSION:2.0
PRODID:-//DIOCESI DI ROMA - ECPv4.6.14.1//NONSGML v1.0//EN
CALSCALE:GREGORIAN
METHOD:PUBLISH
X-WR-CALNAME:DIOCESI DI ROMA
X-ORIGINAL-URL:https://www.diocesidiroma.it
X-WR-CALDESC:Eventi per DIOCESI DI ROMA
BEGIN:VEVENT
DTSTART;TZID=Europe/Rome:20190110T000000
DTEND;TZID=Europe/Rome:20190110T000000
DTSTAMP:20260424T111608
CREATED:20181003T124215Z
LAST-MODIFIED:20181003T124215Z
UID:4836-1547078400-1547078400@www.diocesidiroma.it
SUMMARY:Inizio corso "Domus ecclesiae. Corso sui luoghi liturgici a Roma"
DESCRIPTION:Inizio corso “Domus ecclesiae. Corso sui luoghi liturgici a Roma” presso l’Istituto liturgico Sant’Anselmo. A cura dell’Ufficio liturgico diocesano. \n
URL:https://www.diocesidiroma.it/event/inizio-corso-domus-ecclesiae-corso-sui-luoghi-liturgici-a-roma/
CATEGORIES:Iniziative degli Uffici
END:VEVENT
END:VCALENDAR