BEGIN:VCALENDAR
VERSION:2.0
PRODID:-//DIOCESI DI ROMA - ECPv4.6.14.1//NONSGML v1.0//EN
CALSCALE:GREGORIAN
METHOD:PUBLISH
X-WR-CALNAME:DIOCESI DI ROMA
X-ORIGINAL-URL:https://www.diocesidiroma.it
X-WR-CALDESC:Eventi per DIOCESI DI ROMA
BEGIN:VEVENT
DTSTART;TZID=Europe/Rome:20231009T000000
DTEND;TZID=Europe/Rome:20231009T000000
DTSTAMP:20260424T193551
CREATED:20231006T071225Z
LAST-MODIFIED:20231006T071225Z
UID:27451-1696809600-1696809600@www.diocesidiroma.it
SUMMARY:Inizio corso per i nuovi volontari - prima edizione (Caritas)
DESCRIPTION:Inizio corso per i nuovi volontari – prima edizione (Caritas) \n
URL:https://www.diocesidiroma.it/event/inizio-corso-per-i-nuovi-volontari-prima-edizione-caritas/
CATEGORIES:In Diocesi,Iniziative degli Uffici
END:VEVENT
END:VCALENDAR