BEGIN:VCALENDAR
VERSION:2.0
PRODID:-//DIOCESI DI ROMA - ECPv4.6.14.1//NONSGML v1.0//EN
CALSCALE:GREGORIAN
METHOD:PUBLISH
X-WR-CALNAME:DIOCESI DI ROMA
X-ORIGINAL-URL:https://www.diocesidiroma.it
X-WR-CALDESC:Eventi per DIOCESI DI ROMA
BEGIN:VEVENT
DTSTART;TZID=Europe/Rome:20191112T190000
DTEND;TZID=Europe/Rome:20191112T203000
DTSTAMP:20260422T001145
CREATED:20190917T110509Z
LAST-MODIFIED:20190917T110509Z
UID:8517-1573585200-1573590600@www.diocesidiroma.it
SUMMARY:Inizio corso "Un di più di misericordia: accostarsi al mistero della sofferenza"
DESCRIPTION:Inizio corso “Un di più di misericordia: accostarsi al mistero della sofferenza”\, presso il Pontificio Seminario Romano Maggiore\, a cura dell’Ufficio catechistico e del Centro per la pastorale familiare. \n
URL:https://www.diocesidiroma.it/event/inizio-corso-un-di-piu-di-misericordia-accostarsi-al-mistero-della-sofferenza/
CATEGORIES:Iniziative degli Uffici
END:VEVENT
END:VCALENDAR