BEGIN:VCALENDAR
VERSION:2.0
PRODID:-//DIOCESI DI ROMA - ECPv4.6.14.1//NONSGML v1.0//EN
CALSCALE:GREGORIAN
METHOD:PUBLISH
X-WR-CALNAME:DIOCESI DI ROMA
X-ORIGINAL-URL:https://www.diocesidiroma.it
X-WR-CALDESC:Eventi per DIOCESI DI ROMA
BEGIN:VEVENT
DTSTART;TZID=Europe/Rome:20231025T000000
DTEND;TZID=Europe/Rome:20231025T000000
DTSTAMP:20260421T062617
CREATED:20231006T082759Z
LAST-MODIFIED:20231010T144404Z
UID:27491-1698192000-1698192000@www.diocesidiroma.it
SUMMARY:Manuale dei diritti: Inizio incontri di formazione tematici online - (Caritas)
DESCRIPTION:Manuale dei diritti: Inizio incontri di formazione tematici online  – (Caritas) \n
URL:https://www.diocesidiroma.it/event/inizio-incontri-di-formazione-tematici-online-caritas/
CATEGORIES:In Diocesi,Iniziative degli Uffici
END:VEVENT
END:VCALENDAR