BEGIN:VCALENDAR
VERSION:2.0
PRODID:-//DIOCESI DI ROMA - ECPv4.6.14.1//NONSGML v1.0//EN
CALSCALE:GREGORIAN
METHOD:PUBLISH
X-WR-CALNAME:DIOCESI DI ROMA
X-ORIGINAL-URL:https://www.diocesidiroma.it
X-WR-CALDESC:Eventi per DIOCESI DI ROMA
BEGIN:VEVENT
DTSTART;TZID=Europe/Rome:20191021T100000
DTEND;TZID=Europe/Rome:20191021T123000
DTSTAMP:20260423T220617
CREATED:20190917T081317Z
LAST-MODIFIED:20190917T081317Z
UID:8421-1571652000-1571661000@www.diocesidiroma.it
SUMMARY:Inizio laboratorio mensile "La dimensione profetica del sacerdozio. Predicazione e catechesi"
DESCRIPTION:Inizio laboratorio mensile “La dimensione profetica del sacerdozio. Predicazione e catechesi”\, con padre Rupnik presso il Centro Aletti. \n
URL:https://www.diocesidiroma.it/event/inizio-laboratorio-mensile-la-dimensione-profetica-del-sacerdozio-predicazione-e-catechesi/
CATEGORIES:Iniziative degli Uffici
END:VEVENT
END:VCALENDAR