BEGIN:VCALENDAR
VERSION:2.0
PRODID:-//DIOCESI DI ROMA - ECPv4.6.14.1//NONSGML v1.0//EN
CALSCALE:GREGORIAN
METHOD:PUBLISH
X-WR-CALNAME:DIOCESI DI ROMA
X-ORIGINAL-URL:https://www.diocesidiroma.it
X-WR-CALDESC:Eventi per DIOCESI DI ROMA
BEGIN:VEVENT
DTSTART;TZID=Europe/Rome:20191021T103000
DTEND;TZID=Europe/Rome:20191021T120000
DTSTAMP:20260424T020435
CREATED:20190917T080914Z
LAST-MODIFIED:20190917T080914Z
UID:8417-1571653800-1571659200@www.diocesidiroma.it
SUMMARY:Inizio laboratorio mensile "Ripensare il sacramento della Riconciliazione - Basi bibliche e teologiche"
DESCRIPTION:Inizio laboratorio mensile “Ripensare il sacramento della Riconciliazione – Basi bibliche e teologiche”\, con Costacurta e Bonfrate\, nel Palazzo del Vicariato. \n
URL:https://www.diocesidiroma.it/event/inizio-laboratorio-mensile-ripensare-il-sacramento-della-riconciliazione-basi-bibliche-e-teologiche/
CATEGORIES:Iniziative degli Uffici
END:VEVENT
END:VCALENDAR