BEGIN:VCALENDAR
VERSION:2.0
PRODID:-//DIOCESI DI ROMA - ECPv4.6.14.1//NONSGML v1.0//EN
CALSCALE:GREGORIAN
METHOD:PUBLISH
X-WR-CALNAME:DIOCESI DI ROMA
X-ORIGINAL-URL:https://www.diocesidiroma.it
X-WR-CALDESC:Eventi per DIOCESI DI ROMA
BEGIN:VEVENT
DTSTART;TZID=Europe/Rome:20190114T000000
DTEND;TZID=Europe/Rome:20190114T000000
DTSTAMP:20260424T020029
CREATED:20181009T065657Z
LAST-MODIFIED:20181009T065657Z
UID:4890-1547424000-1547424000@www.diocesidiroma.it
SUMMARY:Inizio scuola di formazione politica
DESCRIPTION:Inizio scuola di formazione politica\, a cura dell’Ufficio per la pastorale sociale. \n
URL:https://www.diocesidiroma.it/event/inizio-scuola-di-formazione-politica/
CATEGORIES:Iniziative degli Uffici
END:VEVENT
END:VCALENDAR