BEGIN:VCALENDAR
VERSION:2.0
PRODID:-//DIOCESI DI ROMA - ECPv4.6.14.1//NONSGML v1.0//EN
CALSCALE:GREGORIAN
METHOD:PUBLISH
X-WR-CALNAME:DIOCESI DI ROMA
X-ORIGINAL-URL:https://www.diocesidiroma.it
X-WR-CALDESC:Eventi per DIOCESI DI ROMA
BEGIN:VEVENT
DTSTART;TZID=Europe/Rome:20181113T000000
DTEND;TZID=Europe/Rome:20181113T000000
DTSTAMP:20260421T161157
CREATED:20180913T072636Z
LAST-MODIFIED:20180913T072636Z
UID:4495-1542067200-1542067200@www.diocesidiroma.it
SUMMARY:Inizio V corso "Arte nelle chiese"
DESCRIPTION:Inizio V corso “Arte nelle chiese”\, che si occupa della formazione di guide turistiche. A cura del Servizio per la cultura e l’università e dell’Ufficio confraternite. \n
URL:https://www.diocesidiroma.it/event/inizio-v-corso-arte-nelle-chiese/
CATEGORIES:Iniziative degli Uffici
END:VEVENT
END:VCALENDAR