BEGIN:VCALENDAR
VERSION:2.0
PRODID:-//DIOCESI DI ROMA - ECPv4.6.14.1//NONSGML v1.0//EN
CALSCALE:GREGORIAN
METHOD:PUBLISH
X-WR-CALNAME:DIOCESI DI ROMA
X-ORIGINAL-URL:https://www.diocesidiroma.it
X-WR-CALDESC:Eventi per DIOCESI DI ROMA
BEGIN:VEVENT
DTSTART;TZID=Europe/Rome:20251216T093000
DTEND;TZID=Europe/Rome:20251216T103000
DTSTAMP:20260423T003724
CREATED:20251212T132651Z
LAST-MODIFIED:20251212T132651Z
UID:39045-1765877400-1765881000@www.diocesidiroma.it
SUMMARY:Interviene a "Labordì": evento per giovani studenti organizzato da Acli Roma
DESCRIPTION:Interviene a “Labordì”: evento per giovani studenti organizzato da Acli Roma \n
URL:https://www.diocesidiroma.it/event/interviene-a-labordi-evento-per-giovani-studenti-organizzato-da-acli-roma/
CATEGORIES:Vicario Generale
END:VEVENT
END:VCALENDAR