BEGIN:VCALENDAR
VERSION:2.0
PRODID:-//DIOCESI DI ROMA - ECPv4.6.14.1//NONSGML v1.0//EN
CALSCALE:GREGORIAN
METHOD:PUBLISH
X-WR-CALNAME:DIOCESI DI ROMA
X-ORIGINAL-URL:https://www.diocesidiroma.it
X-WR-CALDESC:Eventi per DIOCESI DI ROMA
BEGIN:VEVENT
DTSTART;TZID=Europe/Rome:20251124T113000
DTEND;TZID=Europe/Rome:20251124T113000
DTSTAMP:20260422T013721
CREATED:20251119T144653Z
LAST-MODIFIED:20251119T145324Z
UID:38671-1763983800-1763983800@www.diocesidiroma.it
SUMMARY:Interviene al convegno “Coltivare il diritto alla speranza” con Pietro Bartolo
DESCRIPTION:Interviene al convegno “Coltivare il diritto alla speranza” con Pietro Bartolo \n
URL:https://www.diocesidiroma.it/event/interviene-al-convegno-coltivare-il-diritto-alla-speranza-con-pietro-bartolo/
CATEGORIES:Vicario Generale
END:VEVENT
END:VCALENDAR