BEGIN:VCALENDAR
VERSION:2.0
PRODID:-//DIOCESI DI ROMA - ECPv4.6.14.1//NONSGML v1.0//EN
CALSCALE:GREGORIAN
METHOD:PUBLISH
X-WR-CALNAME:DIOCESI DI ROMA
X-ORIGINAL-URL:https://www.diocesidiroma.it
X-WR-CALDESC:Eventi per DIOCESI DI ROMA
BEGIN:VEVENT
DTSTART;TZID=Europe/Rome:20251122T090000
DTEND;TZID=Europe/Rome:20251122T090000
DTSTAMP:20260422T130944
CREATED:20251114T093753Z
LAST-MODIFIED:20251114T093753Z
UID:38580-1763802000-1763802000@www.diocesidiroma.it
SUMMARY:Interviene al Convegno “L’Apostolato dei laici\, a 60 anni da Apostolicam actuositatem” presso il Polo Caritas di Villa Glori
DESCRIPTION:Interviene al Convegno “L’Apostolato dei laici\, a 60 anni da Apostolicam actuositatem” presso il Polo Caritas di Villa Glori \n
URL:https://www.diocesidiroma.it/event/interviene-al-convegno-lapostolato-dei-laici-a-60-anni-da-apostolicam-actuositatem-presso-il-polo-caritas-di-villa-glori/
CATEGORIES:Vicario Generale
END:VEVENT
END:VCALENDAR