BEGIN:VCALENDAR
VERSION:2.0
PRODID:-//DIOCESI DI ROMA - ECPv4.6.14.1//NONSGML v1.0//EN
CALSCALE:GREGORIAN
METHOD:PUBLISH
X-WR-CALNAME:DIOCESI DI ROMA
X-ORIGINAL-URL:https://www.diocesidiroma.it
X-WR-CALDESC:Eventi per DIOCESI DI ROMA
BEGIN:VEVENT
DTSTART;TZID=Europe/Rome:20251130T083000
DTEND;TZID=Europe/Rome:20251130T083000
DTSTAMP:20260421T133739
CREATED:20251119T150959Z
LAST-MODIFIED:20251119T150959Z
UID:38703-1764491400-1764491400@www.diocesidiroma.it
SUMMARY:Interviene al XIX Congresso nazionale del Movimento Apostolico Ciechi
DESCRIPTION:Interviene al XIX Congresso nazionale del Movimento Apostolico Ciechi \n
URL:https://www.diocesidiroma.it/event/interviene-al-xix-congresso-nazionale-del-movimento-apostolico-ciechi/
CATEGORIES:Vicario Generale
END:VEVENT
END:VCALENDAR