BEGIN:VCALENDAR
VERSION:2.0
PRODID:-//DIOCESI DI ROMA - ECPv4.6.14.1//NONSGML v1.0//EN
CALSCALE:GREGORIAN
METHOD:PUBLISH
X-WR-CALNAME:DIOCESI DI ROMA
X-ORIGINAL-URL:https://www.diocesidiroma.it
X-WR-CALDESC:Eventi per DIOCESI DI ROMA
BEGIN:VEVENT
DTSTART;TZID=Europe/Rome:20250930T183000
DTEND;TZID=Europe/Rome:20250930T183000
DTSTAMP:20260424T020438
CREATED:20250926T090700Z
LAST-MODIFIED:20250926T090700Z
UID:37398-1759257000-1759257000@www.diocesidiroma.it
SUMMARY:Interviene alla presentazione del libro di Fabio Zavattaro su Papa Leone XIV “La Pace disarmata e disarmante”
DESCRIPTION:Interviene alla presentazione del libro di Fabio Zavattaro su Papa Leone XIV “La Pace disarmata e disarmante” \n
URL:https://www.diocesidiroma.it/event/interviene-alla-presentazione-del-libro-di-fabio-zavattaro-su-papa-leone-xiv-la-pace-disarmata-e-disarmante/
CATEGORIES:Vicario Generale
END:VEVENT
END:VCALENDAR