BEGIN:VCALENDAR
VERSION:2.0
PRODID:-//DIOCESI DI ROMA - ECPv4.6.14.1//NONSGML v1.0//EN
CALSCALE:GREGORIAN
METHOD:PUBLISH
X-WR-CALNAME:DIOCESI DI ROMA
X-ORIGINAL-URL:https://www.diocesidiroma.it
X-WR-CALDESC:Eventi per DIOCESI DI ROMA
BEGIN:VEVENT
DTSTART;TZID=Europe/Rome:20240130T103000
DTEND;TZID=Europe/Rome:20240130T103000
DTSTAMP:20260422T113529
CREATED:20240126T083808Z
LAST-MODIFIED:20240126T083808Z
UID:28715-1706610600-1706610600@www.diocesidiroma.it
SUMMARY:Interviene all’Assemblea del Coordinamento Nazionale Pellegrinaggi Italiani presso la Casa Bonus Pastor
DESCRIPTION:Interviene all’Assemblea del Coordinamento Nazionale Pellegrinaggi Italiani presso la Casa Bonus Pastor \n
URL:https://www.diocesidiroma.it/event/interviene-allassemblea-del-coordinamento-nazionale-pellegrinaggi-italiani-presso-la-casa-bonus-pastor/
CATEGORIES:NON USARE --- Agenda del Vicario
END:VEVENT
END:VCALENDAR