BEGIN:VCALENDAR
VERSION:2.0
PRODID:-//DIOCESI DI ROMA - ECPv4.6.14.1//NONSGML v1.0//EN
CALSCALE:GREGORIAN
METHOD:PUBLISH
X-WR-CALNAME:DIOCESI DI ROMA
X-ORIGINAL-URL:https://www.diocesidiroma.it
X-WR-CALDESC:Eventi per DIOCESI DI ROMA
BEGIN:VEVENT
DTSTART;TZID=Europe/Rome:20181105T160000
DTEND;TZID=Europe/Rome:20181105T193000
DTSTAMP:20260422T231426
CREATED:20180912T150451Z
LAST-MODIFIED:20180912T150451Z
UID:4458-1541433600-1541446200@www.diocesidiroma.it
SUMMARY:Itinerari giovani e lavoro
DESCRIPTION:Itinerario giovani e lavoro a cura dell’Ufficio per la pastorale sociale. \n
URL:https://www.diocesidiroma.it/event/itinerari-giovani-e-lavoro/
CATEGORIES:Iniziative degli Uffici
END:VEVENT
END:VCALENDAR