BEGIN:VCALENDAR
VERSION:2.0
PRODID:-//DIOCESI DI ROMA - ECPv4.6.14.1//NONSGML v1.0//EN
CALSCALE:GREGORIAN
METHOD:PUBLISH
X-WR-CALNAME:DIOCESI DI ROMA
X-ORIGINAL-URL:https://www.diocesidiroma.it
X-WR-CALDESC:Eventi per DIOCESI DI ROMA
BEGIN:VEVENT
DTSTART;TZID=Europe/Rome:20190603T160000
DTEND;TZID=Europe/Rome:20190603T193000
DTSTAMP:20260421T164836
CREATED:20181023T132827Z
LAST-MODIFIED:20181023T132827Z
UID:5275-1559577600-1559590200@www.diocesidiroma.it
SUMMARY:Itinerario giovani e lavoro
DESCRIPTION:Itinerario giovani e lavoro\, a cura dell’Ufficio per la pastorale sociale. \n
URL:https://www.diocesidiroma.it/event/itinerario-giovani-e-lavoro-12/
CATEGORIES:Iniziative degli Uffici
END:VEVENT
END:VCALENDAR