BEGIN:VCALENDAR
VERSION:2.0
PRODID:-//DIOCESI DI ROMA - ECPv4.6.14.1//NONSGML v1.0//EN
CALSCALE:GREGORIAN
METHOD:PUBLISH
X-WR-CALNAME:DIOCESI DI ROMA
X-ORIGINAL-URL:https://www.diocesidiroma.it
X-WR-CALDESC:Eventi per DIOCESI DI ROMA
BEGIN:VEVENT
DTSTART;TZID=Europe/Rome:20190429T160000
DTEND;TZID=Europe/Rome:20190429T193000
DTSTAMP:20260424T082135
CREATED:20181011T095059Z
LAST-MODIFIED:20181011T095059Z
UID:5111-1556553600-1556566200@www.diocesidiroma.it
SUMMARY:Itinerario giovani e lavoro
DESCRIPTION:Itinerario giovani e lavoro\, a cura dell’Ufficio per la pastorale sociale.  \n
URL:https://www.diocesidiroma.it/event/itinerario-giovani-e-lavoro-7/
CATEGORIES:Iniziative degli Uffici
END:VEVENT
END:VCALENDAR