BEGIN:VCALENDAR
VERSION:2.0
PRODID:-//DIOCESI DI ROMA - ECPv4.6.14.1//NONSGML v1.0//EN
CALSCALE:GREGORIAN
METHOD:PUBLISH
X-WR-CALNAME:DIOCESI DI ROMA
X-ORIGINAL-URL:https://www.diocesidiroma.it
X-WR-CALDESC:Eventi per DIOCESI DI ROMA
BEGIN:VEVENT
DTSTART;VALUE=DATE:20180422
DTEND;VALUE=DATE:20180423
DTSTAMP:20260426T024852
CREATED:20171228T135630Z
LAST-MODIFIED:20171228T135630Z
UID:672-1524355200-1524441599@www.diocesidiroma.it
SUMMARY:IV DOMENICA DI PASQUA
DESCRIPTION:
URL:https://www.diocesidiroma.it/event/iv-domenica-di-pasqua/
CATEGORIES:Ricorrenze
END:VEVENT
END:VCALENDAR